Package: Polytect Version: 1.0.0 Command: /Library/Frameworks/R.framework/Resources/bin/R CMD build --keep-empty-dirs --no-resave-data Polytect StartedAt: 2025-10-07 07:03:21 -0400 (Tue, 07 Oct 2025) EndedAt: 2025-10-07 07:04:56 -0400 (Tue, 07 Oct 2025) EllapsedTime: 94.6 seconds RetCode: 0 Status: OK PackageFile: Polytect_1.0.0.tar.gz PackageFileSize: 2.157 MiB