Package: Polytect Version: 1.0.0 Command: rm -rf Polytect.buildbin-libdir && mkdir Polytect.buildbin-libdir && /Users/biocbuild/BBS/utils/build-universal.sh Polytect_1.0.0.tar.gz /Library/Frameworks/R.framework/Resources/bin/R Polytect.buildbin-libdir StartedAt: 2025-10-08 22:19:07 -0400 (Wed, 08 Oct 2025) EndedAt: 2025-10-08 22:19:23 -0400 (Wed, 08 Oct 2025) EllapsedTime: 15.9 seconds RetCode: 0 Status: OK PackageFile: Polytect_1.0.0.tgz PackageFileSize: 2.236 MiB