Package: PoDCall Version: 1.18.0 Command: /home/biocbuild/bbs-3.22-bioc/R/bin/R CMD INSTALL PoDCall StartedAt: 2025-11-06 15:07:09 -0500 (Thu, 06 Nov 2025) EndedAt: 2025-11-06 15:07:20 -0500 (Thu, 06 Nov 2025) EllapsedTime: 10.9 seconds RetCode: 0 Status: OK