Package: PoDCall Version: 1.18.0 Command: /home/biocbuild/bbs-3.22-bioc/R/bin/R CMD build --keep-empty-dirs --no-resave-data --md5 PoDCall StartedAt: 2025-11-06 19:20:31 -0500 (Thu, 06 Nov 2025) EndedAt: 2025-11-06 19:20:51 -0500 (Thu, 06 Nov 2025) EllapsedTime: 20.0 seconds RetCode: 0 Status: OK PackageFile: PoDCall_1.18.0.tar.gz PackageFileSize: 3.009 MiB