Package: Pirat Version: 1.4.2 Command: /home/biocbuild/R/R/bin/R CMD INSTALL Pirat StartedAt: 2025-11-17 21:27:37 -0000 (Mon, 17 Nov 2025) EndedAt: 2025-11-17 21:28:02 -0000 (Mon, 17 Nov 2025) EllapsedTime: 24.4 seconds RetCode: 0 Status: OK