Package: Pirat Version: 1.4.2 Command: /home/biocbuild/R/R/bin/R CMD build --keep-empty-dirs --no-resave-data Pirat StartedAt: 2025-11-18 04:00:27 -0000 (Tue, 18 Nov 2025) EndedAt: 2025-11-18 04:40:28 -0000 (Tue, 18 Nov 2025) EllapsedTime: 2400.5 seconds RetCode: None Status: TIMEOUT PackageFile: None PackageFileSize: NA