Package: Pirat Version: 1.4.3 Command: /Library/Frameworks/R.framework/Resources/bin/R CMD INSTALL Pirat StartedAt: 2025-11-20 16:21:41 -0500 (Thu, 20 Nov 2025) EndedAt: 2025-11-20 16:22:22 -0500 (Thu, 20 Nov 2025) EllapsedTime: 41.0 seconds RetCode: 0 Status: OK