Package: Pirat Version: 1.4.2 Command: /Library/Frameworks/R.framework/Resources/bin/R CMD INSTALL Pirat StartedAt: 2025-11-10 15:13:09 -0500 (Mon, 10 Nov 2025) EndedAt: 2025-11-10 15:13:17 -0500 (Mon, 10 Nov 2025) EllapsedTime: 8.6 seconds RetCode: 0 Status: OK