Package: Pirat Version: 1.4.2 Command: /Library/Frameworks/R.framework/Resources/bin/R CMD check --install=check:Pirat.install-out.txt --library=/Library/Frameworks/R.framework/Resources/library --no-vignettes --timings Pirat_1.4.2.tar.gz StartedAt: 2025-11-10 21:38:53 -0500 (Mon, 10 Nov 2025) EndedAt: 2025-11-10 21:40:20 -0500 (Mon, 10 Nov 2025) EllapsedTime: 87.0 seconds RetCode: 0 Status: OK CheckDir: Pirat.Rcheck Warnings: 0