Package: Pirat Version: 1.4.2 Command: rm -rf Pirat.buildbin-libdir && mkdir Pirat.buildbin-libdir && /Users/biocbuild/BBS/utils/build-universal.sh Pirat_1.4.2.tar.gz /Library/Frameworks/R.framework/Resources/bin/R Pirat.buildbin-libdir StartedAt: 2025-11-10 23:31:14 -0500 (Mon, 10 Nov 2025) EndedAt: 2025-11-10 23:31:23 -0500 (Mon, 10 Nov 2025) EllapsedTime: 9.2 seconds RetCode: 0 Status: OK PackageFile: Pirat_1.4.2.tgz PackageFileSize: 2.688 MiB