Package: Pigengene Version: 1.35.0 Command: /home/biocbuild/R/R/bin/R CMD build --keep-empty-dirs --no-resave-data Pigengene StartedAt: 2025-10-21 02:04:11 -0000 (Tue, 21 Oct 2025) EndedAt: 2025-10-21 02:09:31 -0000 (Tue, 21 Oct 2025) EllapsedTime: 320.1 seconds RetCode: 0 Status: OK PackageFile: Pigengene_1.35.0.tar.gz PackageFileSize: 2.687 MiB