############################################################################## ############################################################################## ### ### Running command: ### ### /home/biocbuild/bbs-3.21-bioc/R/bin/R CMD check --install=check:Pigengene.install-out.txt --library=/home/biocbuild/bbs-3.21-bioc/R/site-library --timings Pigengene_1.34.0.tar.gz ### ############################################################################## ############################################################################## * using log directory ‘/home/biocbuild/bbs-3.21-bioc/meat/Pigengene.Rcheck’ * using R version 4.5.1 (2025-06-13) * using platform: x86_64-pc-linux-gnu * R was compiled by gcc (Ubuntu 13.3.0-6ubuntu2~24.04) 13.3.0 GNU Fortran (Ubuntu 13.3.0-6ubuntu2~24.04) 13.3.0 * running under: Ubuntu 24.04.3 LTS * using session charset: UTF-8 * checking for file ‘Pigengene/DESCRIPTION’ ... OK * checking extension type ... Package * this is package ‘Pigengene’ version ‘1.34.0’ * checking package namespace information ... OK * checking package dependencies ... OK * checking if this is a source package ... OK * checking if there is a namespace ... OK * checking for hidden files and directories ... OK * checking for portable file names ... OK * checking for sufficient/correct file permissions ... OK * checking whether package ‘Pigengene’ can be installed ... OK * checking installed package size ... OK * checking package directory ... OK * checking ‘build’ directory ... OK * checking DESCRIPTION meta-information ... OK * checking top-level files ... OK * checking for left-over files ... OK * checking index information ... OK * checking package subdirectories ... OK * checking code files for non-ASCII characters ... OK * checking R files for syntax errors ... OK * checking whether the package can be loaded ... OK * checking whether the package can be loaded with stated dependencies ... OK * checking whether the package can be unloaded cleanly ... OK * checking whether the namespace can be loaded with stated dependencies ... OK * checking whether the namespace can be unloaded cleanly ... OK * checking loading without being on the library search path ... OK * checking dependencies in R code ... NOTE 'library' or 'require' calls in package code: ‘AnnotationDbi’ ‘biomaRt’ ‘energy’ ‘org.Hs.eg.db’ ‘org.Mm.eg.db’ Please use :: or requireNamespace() instead. See section 'Suggested packages' in the 'Writing R Extensions' manual. * checking S3 generic/method consistency ... OK * checking replacement functions ... OK * checking foreign function calls ... OK * checking R code for possible problems ... NOTE Found the following possibly unsafe calls: File ‘Pigengene/R/bn.calculation.R’: assignInNamespace("supported.clusters", fixArgs, "bnlearn") one.step.pigengene: no visible binding for global variable ‘org.Hs.eg.db’ Undefined global functions or variables: org.Hs.eg.db * checking Rd files ... NOTE checkRd: (-1) draw.bn.Rd:47: Lost braces 47 | rename the nodes name. See code{rename.node}.} | ^ checkRd: (-1) eigengenes33.Rd:21-22: Lost braces 21 | {A 202 by 34 matrix. | ^ checkRd: (-1) eigengenes33.Rd:25: Lost braces; missing escapes or markup? 25 | {A 164 by 34 matrix for MDS cases with columns similar to aml.} | ^ checkRd: (-1) eigengenes33.Rd:28: Lost braces; missing escapes or markup? 28 | {A numeric vector of length 9166 labeling members of each module. Named by Entrez ID.} | ^ checkRd: (-1) pigengene-class.Rd:25-26: Lost braces in \itemize; meant \describe ? checkRd: (-1) pigengene-class.Rd:27-29: Lost braces in \itemize; meant \describe ? checkRd: (-1) pigengene-class.Rd:30-39: Lost braces in \itemize; meant \describe ? checkRd: (-1) pigengene-class.Rd:40-41: Lost braces in \itemize; meant \describe ? checkRd: (-1) pigengene-class.Rd:42-44: Lost braces in \itemize; meant \describe ? checkRd: (-1) pigengene-class.Rd:45-47: Lost braces in \itemize; meant \describe ? checkRd: (-1) pigengene-class.Rd:48-49: Lost braces in \itemize; meant \describe ? checkRd: (-1) pigengene-class.Rd:50-52: Lost braces in \itemize; meant \describe ? checkRd: (-1) pigengene-class.Rd:53-55: Lost braces in \itemize; meant \describe ? checkRd: (-1) pigengene-class.Rd:56-57: Lost braces in \itemize; meant \describe ? checkRd: (-1) pigengene-class.Rd:58-59: Lost braces in \itemize; meant \describe ? checkRd: (-1) pigengene-class.Rd:60-63: Lost braces in \itemize; meant \describe ? checkRd: (-1) pigengene-class.Rd:64-68: Lost braces in \itemize; meant \describe ? checkRd: (-1) pigengene-class.Rd:73-76: Lost braces in \itemize; meant \describe ? checkRd: (-1) pigengene-class.Rd:77-79: Lost braces in \itemize; meant \describe ? * checking Rd metadata ... OK * checking Rd cross-references ... NOTE Non-topic package-anchored link(s) in Rd file 'draw.bn.Rd': ‘[bnlearn:bn.class]{bn-class}’ Non-topic package-anchored link(s) in Rd file 'gene.mapping.Rd': ‘[org.Hs.eg.db:org.Hs.egBASE]{org.Hs.eg.db}’ ‘[org.Mm.eg.db:org.Mm.egBASE]{org.Mm.eg.db}’ Non-topic package-anchored link(s) in Rd file 'learn.bn.Rd': ‘[bnlearn:preprocessing]{discretize}’ ‘[bnlearn:bn.class]{bn-class}’ See section 'Cross-references' in the 'Writing R Extensions' manual. * checking for missing documentation entries ... OK * checking for code/documentation mismatches ... OK * checking Rd \usage sections ... OK * checking Rd contents ... OK * checking for unstated dependencies in examples ... OK * checking contents of ‘data’ directory ... OK * checking data for non-ASCII characters ... OK * checking data for ASCII and uncompressed saves ... OK * checking files in ‘vignettes’ ... OK * checking examples ... OK Examples with CPU (user + system) or elapsed time > 5s user system elapsed one.step.pigengene 74.976 0.494 75.483 Pigengene-package 69.202 1.347 70.519 get.enriched.pw 61.549 4.204 65.757 module.heatmap 35.582 0.374 35.949 learn.bn 16.334 0.223 16.554 make.filter 15.735 0.205 15.942 determine.modules 13.949 0.022 13.972 apply.filter 13.713 0.169 13.887 combine.networks 13.861 0.015 13.867 wgcna.one.step 13.100 0.033 13.133 compute.pigengene 11.346 0.212 11.558 make.decision.tree 9.923 0.102 10.027 compact.tree 9.943 0.052 9.995 gene.mapping 6.695 0.583 12.637 pigengene 6.572 0.093 6.666 plot.pigengene 6.429 0.052 6.482 project.eigen 6.060 0.032 6.095 * checking for unstated dependencies in vignettes ... OK * checking package vignettes ... OK * checking re-building of vignette outputs ... OK * checking PDF version of manual ... OK * DONE Status: 4 NOTEs See ‘/home/biocbuild/bbs-3.21-bioc/meat/Pigengene.Rcheck/00check.log’ for details.