Package: PhyloProfile Version: 2.0.6 Command: /Library/Frameworks/R.framework/Resources/bin/R CMD INSTALL PhyloProfile StartedAt: 2025-10-09 15:25:43 -0400 (Thu, 09 Oct 2025) EndedAt: 2025-10-09 15:26:35 -0400 (Thu, 09 Oct 2025) EllapsedTime: 51.6 seconds RetCode: 0 Status: OK