Package: PhosR Version: 1.18.5 Command: /home/biocbuild/bbs-3.21-bioc/R/bin/R CMD check --install=check:PhosR.install-out.txt --library=/home/biocbuild/bbs-3.21-bioc/R/site-library --timings PhosR_1.18.5.tar.gz StartedAt: 2025-10-16 02:12:34 -0400 (Thu, 16 Oct 2025) EndedAt: 2025-10-16 02:21:12 -0400 (Thu, 16 Oct 2025) EllapsedTime: 517.7 seconds RetCode: 0 Status: OK CheckDir: PhosR.Rcheck Warnings: 0