Package: PhosR Version: 1.18.5 Command: /home/biocbuild/R/R/bin/R CMD check --install=check:PhosR.install-out.txt --library=/home/biocbuild/R/R/site-library --no-vignettes --timings PhosR_1.18.5.tar.gz StartedAt: 2025-10-14 12:31:28 -0000 (Tue, 14 Oct 2025) EndedAt: 2025-10-14 12:39:57 -0000 (Tue, 14 Oct 2025) EllapsedTime: 509.5 seconds RetCode: 0 Status: OK CheckDir: PhosR.Rcheck Warnings: 0