Package: PhosR Version: 1.18.5 Command: /Library/Frameworks/R.framework/Resources/bin/R CMD build --keep-empty-dirs --no-resave-data PhosR StartedAt: 2025-10-14 06:34:14 -0400 (Tue, 14 Oct 2025) EndedAt: 2025-10-14 06:37:53 -0400 (Tue, 14 Oct 2025) EllapsedTime: 218.7 seconds RetCode: 0 Status: OK PackageFile: PhosR_1.18.5.tar.gz PackageFileSize: 7.968 MiB