Package: PhenoGeneRanker Version: 1.16.0 Command: chmod a+r PhenoGeneRanker -R && E:\biocbuild\bbs-3.21-bioc\R\bin\R.exe CMD build --keep-empty-dirs --no-resave-data PhenoGeneRanker StartedAt: 2025-08-14 21:16:06 -0400 (Thu, 14 Aug 2025) EndedAt: 2025-08-14 21:24:54 -0400 (Thu, 14 Aug 2025) EllapsedTime: 527.2 seconds RetCode: 0 Status: OK PackageFile: PhenoGeneRanker_1.16.0.tar.gz PackageFileSize: 28.26 KiB