Package: PhenoGeneRanker Version: 1.16.0 Command: /home/biocbuild/bbs-3.21-bioc/R/bin/R CMD INSTALL PhenoGeneRanker StartedAt: 2025-10-15 15:08:21 -0400 (Wed, 15 Oct 2025) EndedAt: 2025-10-15 15:08:30 -0400 (Wed, 15 Oct 2025) EllapsedTime: 8.4 seconds RetCode: 0 Status: OK