############################################################################## ############################################################################## ### ### Running command: ### ### E:\biocbuild\bbs-3.21-bioc\R\bin\R.exe CMD INSTALL PhenStat ### ############################################################################## ############################################################################## * installing to library 'E:/biocbuild/bbs-3.21-bioc/R/library' ERROR: dependency 'SmoothWin' is not available for package 'PhenStat' Perhaps try a variation of: install.packages('SmoothWin') * removing 'E:/biocbuild/bbs-3.21-bioc/R/library/PhenStat'