Package: PharmacoGx Version: 3.12.2 Command: rm -rf PharmacoGx.buildbin-libdir && mkdir PharmacoGx.buildbin-libdir && /Users/biocbuild/BBS/utils/build-universal.sh PharmacoGx_3.12.2.tar.gz /Library/Frameworks/R.framework/Resources/bin/R PharmacoGx.buildbin-libdir StartedAt: 2025-10-15 19:46:26 -0400 (Wed, 15 Oct 2025) EndedAt: 2025-10-15 19:47:23 -0400 (Wed, 15 Oct 2025) EllapsedTime: 56.9 seconds RetCode: 0 Status: OK PackageFile: PharmacoGx_3.12.2.tgz PackageFileSize: 3.928 MiB