Package: PhIPData Version: 1.17.0 Command: /home/biocbuild/R/R/bin/R CMD check --install=check:PhIPData.install-out.txt --library=/home/biocbuild/R/R/site-library --no-vignettes --timings PhIPData_1.17.0.tar.gz StartedAt: 2025-10-17 12:10:03 -0000 (Fri, 17 Oct 2025) EndedAt: 2025-10-17 12:14:32 -0000 (Fri, 17 Oct 2025) EllapsedTime: 269.3 seconds RetCode: 0 Status: OK CheckDir: PhIPData.Rcheck Warnings: 0