Package: PhIPData Version: 1.17.0 Command: F:\biocbuild\bbs-3.22-bioc\R\bin\R.exe CMD check --no-multiarch --install=check:PhIPData.install-out.txt --library=F:\biocbuild\bbs-3.22-bioc\R\library --no-vignettes --timings PhIPData_1.17.0.tar.gz StartedAt: 2025-08-15 06:23:16 -0400 (Fri, 15 Aug 2025) EndedAt: 2025-08-15 06:27:34 -0400 (Fri, 15 Aug 2025) EllapsedTime: 258.1 seconds RetCode: 0 Status: OK CheckDir: PhIPData.Rcheck Warnings: 0