Package: PhIPData Version: 1.18.0 Command: /Library/Frameworks/R.framework/Resources/bin/R CMD INSTALL PhIPData StartedAt: 2025-11-03 15:45:36 -0500 (Mon, 03 Nov 2025) EndedAt: 2025-11-03 15:46:13 -0500 (Mon, 03 Nov 2025) EllapsedTime: 37.8 seconds RetCode: 0 Status: OK