Package: PhIPData Version: 1.18.0 Command: /Library/Frameworks/R.framework/Resources/bin/R CMD check --install=check:PhIPData.install-out.txt --library=/Library/Frameworks/R.framework/Resources/library --no-vignettes --timings PhIPData_1.18.0.tar.gz StartedAt: 2025-11-09 21:23:15 -0500 (Sun, 09 Nov 2025) EndedAt: 2025-11-09 21:24:38 -0500 (Sun, 09 Nov 2025) EllapsedTime: 83.1 seconds RetCode: 0 Status: OK CheckDir: PhIPData.Rcheck Warnings: 0