Package: PhIPData Version: 1.18.0 Command: /Library/Frameworks/R.framework/Resources/bin/R CMD build --keep-empty-dirs --no-resave-data PhIPData StartedAt: 2025-11-09 17:22:13 -0500 (Sun, 09 Nov 2025) EndedAt: 2025-11-09 17:22:31 -0500 (Sun, 09 Nov 2025) EllapsedTime: 18.2 seconds RetCode: 0 Status: OK PackageFile: PhIPData_1.18.0.tar.gz PackageFileSize: 820.9 KiB