Package: PhIPData Version: 1.18.0 Command: rm -rf PhIPData.buildbin-libdir && mkdir PhIPData.buildbin-libdir && /Users/biocbuild/BBS/utils/build-universal.sh PhIPData_1.18.0.tar.gz /Library/Frameworks/R.framework/Resources/bin/R PhIPData.buildbin-libdir StartedAt: 2025-11-06 23:16:06 -0500 (Thu, 06 Nov 2025) EndedAt: 2025-11-06 23:16:18 -0500 (Thu, 06 Nov 2025) EllapsedTime: 12.2 seconds RetCode: 0 Status: OK PackageFile: PhIPData_1.18.0.tgz PackageFileSize: 1.202 MiB