Package: PepsNMR Version: 1.27.0 Command: chmod a+r PepsNMR -R && F:\biocbuild\bbs-3.22-bioc\R\bin\R.exe CMD build --keep-empty-dirs --no-resave-data PepsNMR StartedAt: 2025-08-14 22:16:35 -0400 (Thu, 14 Aug 2025) EndedAt: 2025-08-14 22:23:34 -0400 (Thu, 14 Aug 2025) EllapsedTime: 419.5 seconds RetCode: 0 Status: OK PackageFile: PepsNMR_1.27.0.tar.gz PackageFileSize: 700 KiB