Package: PepsNMR Version: 1.28.0 Command: /home/biocbuild/bbs-3.22-bioc/R/bin/R CMD check --install=check:PepsNMR.install-out.txt --library=/home/biocbuild/bbs-3.22-bioc/R/site-library --timings PepsNMR_1.28.0.tar.gz StartedAt: 2025-11-04 02:37:47 -0500 (Tue, 04 Nov 2025) EndedAt: 2025-11-04 02:48:45 -0500 (Tue, 04 Nov 2025) EllapsedTime: 658.7 seconds RetCode: 0 Status: OK CheckDir: PepsNMR.Rcheck Warnings: 0