Package: Pedixplorer Version: 1.5.6 Command: /home/biocbuild/R/R/bin/R CMD INSTALL Pedixplorer StartedAt: 2025-10-23 20:31:29 -0000 (Thu, 23 Oct 2025) EndedAt: 2025-10-23 20:31:59 -0000 (Thu, 23 Oct 2025) EllapsedTime: 30.7 seconds RetCode: 0 Status: OK