Package: Pedixplorer Version: 1.5.6 Command: /home/biocbuild/R/R/bin/R CMD check --install=check:Pedixplorer.install-out.txt --library=/home/biocbuild/R/R/site-library --no-vignettes --timings Pedixplorer_1.5.6.tar.gz StartedAt: 2025-10-17 12:07:42 -0000 (Fri, 17 Oct 2025) EndedAt: 2025-10-17 12:12:31 -0000 (Fri, 17 Oct 2025) EllapsedTime: 289.4 seconds RetCode: 0 Status: OK CheckDir: Pedixplorer.Rcheck Warnings: 0