Package: Pedixplorer Version: 1.5.5 Command: F:\biocbuild\bbs-3.22-bioc\R\bin\R.exe CMD check --no-multiarch --install=check:Pedixplorer.install-out.txt --library=F:\biocbuild\bbs-3.22-bioc\R\library --no-vignettes --timings Pedixplorer_1.5.5.tar.gz StartedAt: 2025-08-15 06:18:49 -0400 (Fri, 15 Aug 2025) EndedAt: 2025-08-15 06:23:35 -0400 (Fri, 15 Aug 2025) EllapsedTime: 285.2 seconds RetCode: 0 Status: OK CheckDir: Pedixplorer.Rcheck Warnings: 0