Package: Pedixplorer Version: 1.5.5 Command: rm -rf Pedixplorer.buildbin-libdir && mkdir Pedixplorer.buildbin-libdir && F:\biocbuild\bbs-3.22-bioc\R\bin\R.exe CMD INSTALL --build --library=Pedixplorer.buildbin-libdir Pedixplorer_1.5.5.tar.gz StartedAt: 2025-08-15 10:56:12 -0400 (Fri, 15 Aug 2025) EndedAt: 2025-08-15 11:00:13 -0400 (Fri, 15 Aug 2025) EllapsedTime: 240.5 seconds RetCode: 0 Status: OK PackageFile: Pedixplorer_1.5.5.zip PackageFileSize: 4.547 MiB