Package: Pedixplorer Version: 1.4.0 Command: E:\biocbuild\bbs-3.21-bioc\R\bin\R.exe CMD check --no-multiarch --install=check:Pedixplorer.install-out.txt --library=E:\biocbuild\bbs-3.21-bioc\R\library --no-vignettes --timings Pedixplorer_1.4.0.tar.gz StartedAt: 2025-08-15 05:18:44 -0400 (Fri, 15 Aug 2025) EndedAt: 2025-08-15 05:22:53 -0400 (Fri, 15 Aug 2025) EllapsedTime: 248.7 seconds RetCode: 0 Status: OK CheckDir: Pedixplorer.Rcheck Warnings: 0