Package: Pedixplorer Version: 1.6.0 Command: /home/biocbuild/bbs-3.22-bioc/R/bin/R CMD INSTALL Pedixplorer StartedAt: 2025-11-03 15:12:55 -0500 (Mon, 03 Nov 2025) EndedAt: 2025-11-03 15:13:15 -0500 (Mon, 03 Nov 2025) EllapsedTime: 20.3 seconds RetCode: 0 Status: OK