Package: Pedixplorer Version: 1.6.0 Command: /Library/Frameworks/R.framework/Resources/bin/R CMD INSTALL Pedixplorer StartedAt: 2025-11-10 15:07:04 -0500 (Mon, 10 Nov 2025) EndedAt: 2025-11-10 15:07:12 -0500 (Mon, 10 Nov 2025) EllapsedTime: 8.2 seconds RetCode: 0 Status: OK