Package: Pedixplorer Version: 1.6.0 Command: /Library/Frameworks/R.framework/Resources/bin/R CMD check --install=check:Pedixplorer.install-out.txt --library=/Library/Frameworks/R.framework/Resources/library --no-vignettes --timings Pedixplorer_1.6.0.tar.gz StartedAt: 2025-11-10 21:35:21 -0500 (Mon, 10 Nov 2025) EndedAt: 2025-11-10 21:36:37 -0500 (Mon, 10 Nov 2025) EllapsedTime: 75.9 seconds RetCode: 0 Status: OK CheckDir: Pedixplorer.Rcheck Warnings: 0