Package: Pedixplorer Version: 1.6.0 Command: rm -rf Pedixplorer.buildbin-libdir && mkdir Pedixplorer.buildbin-libdir && /Users/biocbuild/BBS/utils/build-universal.sh Pedixplorer_1.6.0.tar.gz /Library/Frameworks/R.framework/Resources/bin/R Pedixplorer.buildbin-libdir StartedAt: 2025-11-10 23:30:54 -0500 (Mon, 10 Nov 2025) EndedAt: 2025-11-10 23:31:03 -0500 (Mon, 10 Nov 2025) EllapsedTime: 9.2 seconds RetCode: 0 Status: OK PackageFile: Pedixplorer_1.6.0.tgz PackageFileSize: 5.757 MiB