Package: PeacoQC Version: 1.18.0 Command: /Library/Frameworks/R.framework/Resources/bin/R CMD build --keep-empty-dirs --no-resave-data PeacoQC StartedAt: 2025-10-14 06:25:02 -0400 (Tue, 14 Oct 2025) EndedAt: 2025-10-14 06:26:19 -0400 (Tue, 14 Oct 2025) EllapsedTime: 76.4 seconds RetCode: 0 Status: OK PackageFile: PeacoQC_1.18.0.tar.gz PackageFileSize: 1.521 MiB