Package: PanomiR Version: 1.12.0 Command: E:\biocbuild\bbs-3.21-bioc\R\bin\R.exe CMD check --no-multiarch --install=check:PanomiR.install-out.txt --library=E:\biocbuild\bbs-3.21-bioc\R\library --no-vignettes --timings PanomiR_1.12.0.tar.gz StartedAt: 2025-08-15 05:12:16 -0400 (Fri, 15 Aug 2025) EndedAt: 2025-08-15 05:14:21 -0400 (Fri, 15 Aug 2025) EllapsedTime: 125.7 seconds RetCode: 0 Status: OK CheckDir: PanomiR.Rcheck Warnings: 0