Package: PanomiR Version: 1.12.0 Command: chmod a+r PanomiR -R && E:\biocbuild\bbs-3.21-bioc\R\bin\R.exe CMD build --keep-empty-dirs --no-resave-data PanomiR StartedAt: 2025-08-14 21:08:06 -0400 (Thu, 14 Aug 2025) EndedAt: 2025-08-14 21:08:50 -0400 (Thu, 14 Aug 2025) EllapsedTime: 44.7 seconds RetCode: 0 Status: OK PackageFile: PanomiR_1.12.0.tar.gz PackageFileSize: 1.98 MiB