Package: PWMEnrich Version: 4.44.0 Command: rm -rf PWMEnrich.buildbin-libdir && mkdir PWMEnrich.buildbin-libdir && E:\biocbuild\bbs-3.21-bioc\R\bin\R.exe CMD INSTALL --build --library=PWMEnrich.buildbin-libdir PWMEnrich_4.44.0.tar.gz StartedAt: 2025-08-15 10:00:11 -0400 (Fri, 15 Aug 2025) EndedAt: 2025-08-15 10:01:25 -0400 (Fri, 15 Aug 2025) EllapsedTime: 74.7 seconds RetCode: 0 Status: OK PackageFile: PWMEnrich_4.44.0.zip PackageFileSize: 1.991 MiB