Package: PWMEnrich Version: 4.44.0 Command: /Library/Frameworks/R.framework/Resources/bin/R CMD build --keep-empty-dirs --no-resave-data PWMEnrich StartedAt: 2025-09-26 06:51:34 -0400 (Fri, 26 Sep 2025) EndedAt: 2025-09-26 06:52:58 -0400 (Fri, 26 Sep 2025) EllapsedTime: 84.2 seconds RetCode: 0 Status: OK PackageFile: PWMEnrich_4.44.0.tar.gz PackageFileSize: 1.571 MiB