Package: PWMEnrich Version: 4.44.0 Command: rm -rf PWMEnrich.buildbin-libdir && mkdir PWMEnrich.buildbin-libdir && /Users/biocbuild/BBS/utils/build-universal.sh PWMEnrich_4.44.0.tar.gz /Library/Frameworks/R.framework/Resources/bin/R PWMEnrich.buildbin-libdir StartedAt: 2025-09-27 18:53:44 -0400 (Sat, 27 Sep 2025) EndedAt: 2025-09-27 18:54:01 -0400 (Sat, 27 Sep 2025) EllapsedTime: 17.4 seconds RetCode: 0 Status: OK PackageFile: PWMEnrich_4.44.0.tgz PackageFileSize: 1.991 MiB