Package: PSMatch Version: 1.13.2 Command: /home/biocbuild/R/R/bin/R CMD INSTALL PSMatch StartedAt: 2025-10-23 20:59:33 -0000 (Thu, 23 Oct 2025) EndedAt: 2025-10-23 21:00:11 -0000 (Thu, 23 Oct 2025) EllapsedTime: 38.5 seconds RetCode: 0 Status: OK