Package: PSMatch Version: 1.13.2 Command: /home/biocbuild/R/R/bin/R CMD build --keep-empty-dirs --no-resave-data PSMatch StartedAt: 2025-10-21 02:11:28 -0000 (Tue, 21 Oct 2025) EndedAt: 2025-10-21 02:13:53 -0000 (Tue, 21 Oct 2025) EllapsedTime: 145.0 seconds RetCode: 0 Status: OK PackageFile: PSMatch_1.13.2.tar.gz PackageFileSize: 1.425 MiB