Package: PSMatch Version: 1.13.2 Command: F:\biocbuild\bbs-3.22-bioc\R\bin\R.exe CMD INSTALL PSMatch StartedAt: 2025-08-14 16:22:32 -0400 (Thu, 14 Aug 2025) EndedAt: 2025-08-14 16:23:17 -0400 (Thu, 14 Aug 2025) EllapsedTime: 44.4 seconds RetCode: 0 Status: OK