Package: PROcess Version: 1.86.0 Command: /Library/Frameworks/R.framework/Resources/bin/R CMD INSTALL PROcess StartedAt: 2025-11-03 15:18:42 -0500 (Mon, 03 Nov 2025) EndedAt: 2025-11-03 15:18:51 -0500 (Mon, 03 Nov 2025) EllapsedTime: 8.8 seconds RetCode: 0 Status: OK