Package: PREDA Version: 1.55.0 Command: chmod a+r PREDA -R && F:\biocbuild\bbs-3.22-bioc\R\bin\R.exe CMD build --keep-empty-dirs --no-resave-data PREDA StartedAt: 2025-08-14 22:26:51 -0400 (Thu, 14 Aug 2025) EndedAt: 2025-08-14 22:30:00 -0400 (Thu, 14 Aug 2025) EllapsedTime: 189.4 seconds RetCode: 0 Status: OK PackageFile: PREDA_1.55.0.tar.gz PackageFileSize: 1.761 MiB