Package: PREDA Version: 1.54.0 Command: E:\biocbuild\bbs-3.21-bioc\R\bin\R.exe CMD check --no-multiarch --install=check:PREDA.install-out.txt --library=E:\biocbuild\bbs-3.21-bioc\R\library --no-vignettes --timings PREDA_1.54.0.tar.gz StartedAt: 2025-08-15 05:33:58 -0400 (Fri, 15 Aug 2025) EndedAt: 2025-08-15 05:36:21 -0400 (Fri, 15 Aug 2025) EllapsedTime: 143.8 seconds RetCode: 0 Status: WARNINGS CheckDir: PREDA.Rcheck Warnings: 1