Package: PREDA Version: 1.54.0 Command: rm -rf PREDA.buildbin-libdir && mkdir PREDA.buildbin-libdir && E:\biocbuild\bbs-3.21-bioc\R\bin\R.exe CMD INSTALL --build --library=PREDA.buildbin-libdir PREDA_1.54.0.tar.gz StartedAt: 2025-08-15 09:58:35 -0400 (Fri, 15 Aug 2025) EndedAt: 2025-08-15 09:59:41 -0400 (Fri, 15 Aug 2025) EllapsedTime: 66.0 seconds RetCode: 0 Status: OK PackageFile: PREDA_1.54.0.zip PackageFileSize: 1.756 MiB